BEGIN:VCALENDAR
VERSION:2.0
PRODID:-//eventon.com NONSGML v1.0//EN
CALSCALE:GREGORIAN
METHOD:PUBLISH
BEGIN:VEVENT
UID:69ebd8362c92f
DTSTAMP:20260425T035310
DTSTART:20231210T225800Z
DTEND:20231210T225800Z
TZID:Pacific/Midway
LOCATION:นครพนม 
SUMMARY:MCOT RUN Nakhon Phanom
DESCRIPTION: MCOT RUN Nakhon Phanom\nhttps://patrunning.com/events/mcot-run-nakhon-phanom/
URL:https://patrunning.com/events/mcot-run-nakhon-phanom/
END:VEVENT
END:VCALENDAR