BEGIN:VCALENDAR
VERSION:2.0
PRODID:-//eventon.com NONSGML v1.0//EN
CALSCALE:GREGORIAN
METHOD:PUBLISH
BEGIN:VEVENT
UID:69e7ce8ef083a
DTSTAMP:20260422T022254
DTSTART:20231113T082300Z
DTEND:20231113T082300Z
TZID:Pacific/Midway
LOCATION:ระยอง 
SUMMARY:เซพป้า รัน 2023
DESCRIPTION: เซพป้า รัน 2023\nhttps://patrunning.com/events/%e0%b9%80%e0%b8%8b%e0%b8%9e%e0%b8%9b%e0%b9%89%e0%b8%b2-%e0%b8%a3%e0%b8%b1%e0%b8%99-2023/
URL:https://patrunning.com/events/%e0%b9%80%e0%b8%8b%e0%b8%9e%e0%b8%9b%e0%b9%89%e0%b8%b2-%e0%b8%a3%e0%b8%b1%e0%b8%99-2023/
END:VEVENT
END:VCALENDAR