BEGIN:VCALENDAR
VERSION:2.0
PRODID:-//eventon.com NONSGML v1.0//EN
CALSCALE:GREGORIAN
METHOD:PUBLISH
BEGIN:VEVENT
UID:69e8905c8f9d1
DTSTAMP:20260422T160948
DTSTART:20231002T013200Z
DTEND:20231002T013200Z
TZID:Pacific/Midway
LOCATION:นครราชสีมา 
SUMMARY:CP ISAN RUN FOR CHARITY 2023
DESCRIPTION: CP ISAN RUN FOR CHARITY 2023\nhttps://patrunning.com/events/cp-isan-run-for-charity-2023/
URL:https://patrunning.com/events/cp-isan-run-for-charity-2023/
END:VEVENT
END:VCALENDAR