BEGIN:VCALENDAR
VERSION:2.0
PRODID:-//eventon.com NONSGML v1.0//EN
CALSCALE:GREGORIAN
METHOD:PUBLISH
BEGIN:VEVENT
UID:69e8905306b18
DTSTAMP:20260422T160939
DTSTART:20231204T090600Z
DTEND:20231204T090600Z
TZID:Pacific/Midway
LOCATION:นครราชสีมา 
SUMMARY:KORAT Loifaa Marathon 2023
DESCRIPTION: KORAT Loifaa Marathon 2023\nhttps://patrunning.com/events/korat-loifaa-marathon-2023/
URL:https://patrunning.com/events/korat-loifaa-marathon-2023/
END:VEVENT
END:VCALENDAR