BEGIN:VCALENDAR
VERSION:2.0
PRODID:-//eventon.com NONSGML v1.0//EN
CALSCALE:GREGORIAN
METHOD:PUBLISH
BEGIN:VEVENT
UID:69e89069438cf
DTSTAMP:20260422T161001
DTSTART:20240121T103900Z
DTEND:20240122T103900Z
TZID:Pacific/Midway
LOCATION:นครราชสีมา 
SUMMARY:THE NORTH FACE 100 ULTRA TRAIL CHALLENGE 2024 THAILAND
DESCRIPTION: THE NORTH FACE 100 ULTRA TRAIL CHALLENGE 2024 THAILAND\nhttps://patrunning.com/events/the-north-face-100-ultra-trail-challenge-2024-thailand/
URL:https://patrunning.com/events/the-north-face-100-ultra-trail-challenge-2024-thailand/
END:VEVENT
END:VCALENDAR