BEGIN:VCALENDAR
VERSION:2.0
PRODID:-//eventon.com NONSGML v1.0//EN
CALSCALE:GREGORIAN
METHOD:PUBLISH
BEGIN:VEVENT
UID:69e7ce8fc21a4
DTSTAMP:20260422T022255
DTSTART:20231204T085800Z
DTEND:20231204T085800Z
TZID:Pacific/Midway
LOCATION:ระยอง 
SUMMARY:สื่อชวนวิ่ง ปี 3
DESCRIPTION: สื่อชวนวิ่ง ปี 3\nhttps://patrunning.com/events/%e0%b8%aa%e0%b8%b7%e0%b9%88%e0%b8%ad%e0%b8%8a%e0%b8%a7%e0%b8%99%e0%b8%a7%e0%b8%b4%e0%b9%88%e0%b8%87-%e0%b8%9b%e0%b8%b5-3/
URL:https://patrunning.com/events/%e0%b8%aa%e0%b8%b7%e0%b9%88%e0%b8%ad%e0%b8%8a%e0%b8%a7%e0%b8%99%e0%b8%a7%e0%b8%b4%e0%b9%88%e0%b8%87-%e0%b8%9b%e0%b8%b5-3/
END:VEVENT
END:VCALENDAR