BEGIN:VCALENDAR
VERSION:2.0
PRODID:-//eventon.com NONSGML v1.0//EN
CALSCALE:GREGORIAN
METHOD:PUBLISH
BEGIN:VEVENT
UID:69e7cea6ecfb7
DTSTAMP:20260422T022318
DTSTART:20231210T103500Z
DTEND:20231210T103500Z
TZID:Pacific/Midway
LOCATION:ระยอง 
SUMMARY:้เดิน-วิ่งการกุศล Run For 3H Help Hope Heart FBA 2023
DESCRIPTION: ้เดิน-วิ่งการกุศล Run For 3H Help Hope Heart FBA 2023\nhttps://patrunning.com/events/%e0%b9%89%e0%b9%80%e0%b8%94%e0%b8%b4%e0%b8%99-%e0%b8%a7%e0%b8%b4%e0%b9%88%e0%b8%87%e0%b8%81%e0%b8%b2%e0%b8%a3%e0%b8%81%e0%b8%b8%e0%b8%a8%e0%b8%a5-run-for-3h-help-hope-heart-fba-2023/
URL:https://patrunning.com/events/%e0%b9%89%e0%b9%80%e0%b8%94%e0%b8%b4%e0%b8%99-%e0%b8%a7%e0%b8%b4%e0%b9%88%e0%b8%87%e0%b8%81%e0%b8%b2%e0%b8%a3%e0%b8%81%e0%b8%b8%e0%b8%a8%e0%b8%a5-run-for-3h-help-hope-heart-fba-2023/
END:VEVENT
END:VCALENDAR