BEGIN:VCALENDAR
VERSION:2.0
PRODID:-//eventon.com NONSGML v1.0//EN
CALSCALE:GREGORIAN
METHOD:PUBLISH
BEGIN:VEVENT
UID:69ebd835b6d40
DTSTAMP:20260425T035309
DTSTART:20240121T221700Z
DTEND:20240121T221700Z
TZID:Pacific/Midway
LOCATION:นครพนม 
SUMMARY:NakhonphanoM 10 2024
DESCRIPTION: NakhonphanoM 10 2024\nhttps://patrunning.com/events/nakhonphanom-10-2024/
URL:https://patrunning.com/events/nakhonphanom-10-2024/
END:VEVENT
END:VCALENDAR