BEGIN:VCALENDAR
VERSION:2.0
PRODID:-//eventon.com NONSGML v1.0//EN
CALSCALE:GREGORIAN
METHOD:PUBLISH
BEGIN:VEVENT
UID:69e7559fdcfb4
DTSTAMP:20260421T174655
DTSTART:20240107T212600Z
DTEND:20240107T212600Z
TZID:Pacific/Midway
LOCATION:สุพรรณบุรี 
SUMMARY:เดิน-วิ่งเขื่อนกระเสียว เที่ยวด่านช้าง มินิ-ฮาล์ฟมาราธอน 2024
DESCRIPTION: เดิน-วิ่งเขื่อนกระเสียว เที่ยวด่านช้าง มินิ-ฮาล์ฟมาราธอน 2024\nhttps://patrunning.com/events/%e0%b9%80%e0%b8%94%e0%b8%b4%e0%b8%99-%e0%b8%a7%e0%b8%b4%e0%b9%88%e0%b8%87%e0%b9%80%e0%b8%82%e0%b8%b7%e0%b9%88%e0%b8%ad%e0%b8%99%e0%b8%81%e0%b8%a3%e0%b8%b0%e0%b9%80%e0%b8%aa%e0%b8%b5%e0%b8%a2%e0%b8%a7/
URL:https://patrunning.com/events/%e0%b9%80%e0%b8%94%e0%b8%b4%e0%b8%99-%e0%b8%a7%e0%b8%b4%e0%b9%88%e0%b8%87%e0%b9%80%e0%b8%82%e0%b8%b7%e0%b9%88%e0%b8%ad%e0%b8%99%e0%b8%81%e0%b8%a3%e0%b8%b0%e0%b9%80%e0%b8%aa%e0%b8%b5%e0%b8%a2%e0%b8%a7/
END:VEVENT
END:VCALENDAR