BEGIN:VCALENDAR
VERSION:2.0
PRODID:-//eventon.com NONSGML v1.0//EN
CALSCALE:GREGORIAN
METHOD:PUBLISH
BEGIN:VEVENT
UID:69e89609c19ec
DTSTAMP:20260422T163401
DTSTART:20240219T064200Z
DTEND:20240219T064200Z
TZID:Pacific/Midway
LOCATION:นครราชสีมา 
SUMMARY:บ้านกล้วยมินิมาราธอน 3
DESCRIPTION: บ้านกล้วยมินิมาราธอน 3\nhttps://patrunning.com/events/%e0%b8%9a%e0%b9%89%e0%b8%b2%e0%b8%99%e0%b8%81%e0%b8%a5%e0%b9%89%e0%b8%a7%e0%b8%a2%e0%b8%a1%e0%b8%b4%e0%b8%99%e0%b8%b4%e0%b8%a1%e0%b8%b2%e0%b8%a3%e0%b8%b2%e0%b8%98%e0%b8%ad%e0%b8%99-3/
URL:https://patrunning.com/events/%e0%b8%9a%e0%b9%89%e0%b8%b2%e0%b8%99%e0%b8%81%e0%b8%a5%e0%b9%89%e0%b8%a7%e0%b8%a2%e0%b8%a1%e0%b8%b4%e0%b8%99%e0%b8%b4%e0%b8%a1%e0%b8%b2%e0%b8%a3%e0%b8%b2%e0%b8%98%e0%b8%ad%e0%b8%99-3/
END:VEVENT
END:VCALENDAR