BEGIN:VCALENDAR
VERSION:2.0
PRODID:-//eventon.com NONSGML v1.0//EN
CALSCALE:GREGORIAN
METHOD:PUBLISH
BEGIN:VEVENT
UID:69e78883aaaeb
DTSTAMP:20260421T212403
DTSTART:20240316T210600Z
DTEND:20240316T210600Z
TZID:Pacific/Midway
LOCATION:ประจวบคีรีขันธ์ 
SUMMARY:พาลูกวิ่งดะ OBSTACLE ON THE BEACH 2024 #ฮีโร่จิ๋วสู้กู้โลก
DESCRIPTION: พาลูกวิ่งดะ OBSTACLE ON THE BEACH 2024 #ฮีโร่จิ๋วสู้กู้โลก\nhttps://patrunning.com/events/%e0%b8%9e%e0%b8%b2%e0%b8%a5%e0%b8%b9%e0%b8%81%e0%b8%a7%e0%b8%b4%e0%b9%88%e0%b8%87%e0%b8%94%e0%b8%b0-obstacle-on-the-beach-2024-%e0%b8%ae%e0%b8%b5%e0%b9%82%e0%b8%a3%e0%b9%88%e0%b8%88%e0%b8%b4%e0%b9%8b/
URL:https://patrunning.com/events/%e0%b8%9e%e0%b8%b2%e0%b8%a5%e0%b8%b9%e0%b8%81%e0%b8%a7%e0%b8%b4%e0%b9%88%e0%b8%87%e0%b8%94%e0%b8%b0-obstacle-on-the-beach-2024-%e0%b8%ae%e0%b8%b5%e0%b9%82%e0%b8%a3%e0%b9%88%e0%b8%88%e0%b8%b4%e0%b9%8b/
END:VEVENT
END:VCALENDAR