BEGIN:VCALENDAR
VERSION:2.0
PRODID:-//eventon.com NONSGML v1.0//EN
CALSCALE:GREGORIAN
METHOD:PUBLISH
BEGIN:VEVENT
UID:69e7ceadd4a80
DTSTAMP:20260422T022325
DTSTART:20240311T064600Z
DTEND:20240311T064600Z
TZID:Pacific/Midway
LOCATION:ระยอง 
SUMMARY:พลา รัน 4 : 2567
DESCRIPTION: พลา รัน 4 : 2567\nhttps://patrunning.com/events/%e0%b8%9e%e0%b8%a5%e0%b8%b2-%e0%b8%a3%e0%b8%b1%e0%b8%99-4-2567/
URL:https://patrunning.com/events/%e0%b8%9e%e0%b8%a5%e0%b8%b2-%e0%b8%a3%e0%b8%b1%e0%b8%99-4-2567/
END:VEVENT
END:VCALENDAR