BEGIN:VCALENDAR
VERSION:2.0
PRODID:-//eventon.com NONSGML v1.0//EN
CALSCALE:GREGORIAN
METHOD:PUBLISH
BEGIN:VEVENT
UID:69e95736389e4
DTSTAMP:20260423T061814
DTSTART:20240121T081500Z
DTEND:20240121T081500Z
TZID:Pacific/Midway
LOCATION:เชียงใหม่ 
SUMMARY:SIBS Color Run (วิ่งสาดสี) ครั้งที่ 2
DESCRIPTION: SIBS Color Run (วิ่งสาดสี) ครั้งที่ 2\nhttps://patrunning.com/events/sibs-color-run-%e0%b8%a7%e0%b8%b4%e0%b9%88%e0%b8%87%e0%b8%aa%e0%b8%b2%e0%b8%94%e0%b8%aa%e0%b8%b5-%e0%b8%84%e0%b8%a3%e0%b8%b1%e0%b9%89%e0%b8%87%e0%b8%97%e0%b8%b5%e0%b9%88-2/
URL:https://patrunning.com/events/sibs-color-run-%e0%b8%a7%e0%b8%b4%e0%b9%88%e0%b8%87%e0%b8%aa%e0%b8%b2%e0%b8%94%e0%b8%aa%e0%b8%b5-%e0%b8%84%e0%b8%a3%e0%b8%b1%e0%b9%89%e0%b8%87%e0%b8%97%e0%b8%b5%e0%b9%88-2/
END:VEVENT
END:VCALENDAR