BEGIN:VCALENDAR
VERSION:2.0
PRODID:-//eventon.com NONSGML v1.0//EN
CALSCALE:GREGORIAN
METHOD:PUBLISH
BEGIN:VEVENT
UID:69e8905e53783
DTSTAMP:20260422T160950
DTSTART:20240122T004700Z
DTEND:20240122T004700Z
TZID:Pacific/Midway
LOCATION:นครราชสีมา 
SUMMARY:DONTAYAENG WE RUN MINI MARATHON 2024
DESCRIPTION: DONTAYAENG WE RUN MINI MARATHON 2024\nhttps://patrunning.com/events/dontayaeng-we-run-mini-marathon-2024/
URL:https://patrunning.com/events/dontayaeng-we-run-mini-marathon-2024/
END:VEVENT
END:VCALENDAR