BEGIN:VCALENDAR
VERSION:2.0
PRODID:-//eventon.com NONSGML v1.0//EN
CALSCALE:GREGORIAN
METHOD:PUBLISH
BEGIN:VEVENT
UID:69e7ce8ef242a
DTSTAMP:20260422T022254
DTSTART:20240311T011500Z
DTEND:20240311T011500Z
TZID:Pacific/Midway
LOCATION:ระยอง 
SUMMARY:มาบตาพุด เดิน-วิ่ง มินิมาราธอน ครั้งที่ 13
DESCRIPTION: มาบตาพุด เดิน-วิ่ง มินิมาราธอน ครั้งที่ 13\nhttps://patrunning.com/events/%e0%b8%a1%e0%b8%b2%e0%b8%9a%e0%b8%95%e0%b8%b2%e0%b8%9e%e0%b8%b8%e0%b8%94-%e0%b9%80%e0%b8%94%e0%b8%b4%e0%b8%99-%e0%b8%a7%e0%b8%b4%e0%b9%88%e0%b8%87-%e0%b8%a1%e0%b8%b4%e0%b8%99%e0%b8%b4%e0%b8%a1/
URL:https://patrunning.com/events/%e0%b8%a1%e0%b8%b2%e0%b8%9a%e0%b8%95%e0%b8%b2%e0%b8%9e%e0%b8%b8%e0%b8%94-%e0%b9%80%e0%b8%94%e0%b8%b4%e0%b8%99-%e0%b8%a7%e0%b8%b4%e0%b9%88%e0%b8%87-%e0%b8%a1%e0%b8%b4%e0%b8%99%e0%b8%b4%e0%b8%a1/
END:VEVENT
END:VCALENDAR