BEGIN:VCALENDAR
VERSION:2.0
PRODID:-//eventon.com NONSGML v1.0//EN
CALSCALE:GREGORIAN
METHOD:PUBLISH
BEGIN:VEVENT
UID:69e87820d4518
DTSTAMP:20260422T142624
DTSTART:20240304T091600Z
DTEND:20240304T091600Z
TZID:Pacific/Midway
LOCATION:นครราชสีมา 
SUMMARY:Seema Running 2
DESCRIPTION: Seema Running 2\nhttps://patrunning.com/events/seema-running-2/
URL:https://patrunning.com/events/seema-running-2/
END:VEVENT
END:VCALENDAR