BEGIN:VCALENDAR
VERSION:2.0
PRODID:-//eventon.com NONSGML v1.0//EN
CALSCALE:GREGORIAN
METHOD:PUBLISH
BEGIN:VEVENT
UID:69e87822d8947
DTSTAMP:20260422T142626
DTSTART:20240122T092000Z
DTEND:20240122T092000Z
TZID:Pacific/Midway
LOCATION:นครราชสีมา 
SUMMARY:วิ่งกินผัก @วังน้ำเขียว
DESCRIPTION: วิ่งกินผัก @วังน้ำเขียว\nhttps://patrunning.com/events/%e0%b8%a7%e0%b8%b4%e0%b9%88%e0%b8%87%e0%b8%81%e0%b8%b4%e0%b8%99%e0%b8%9c%e0%b8%b1%e0%b8%81-%e0%b8%a7%e0%b8%b1%e0%b8%87%e0%b8%99%e0%b9%89%e0%b8%b3%e0%b9%80%e0%b8%82%e0%b8%b5%e0%b8%a2%e0%b8%a7/
URL:https://patrunning.com/events/%e0%b8%a7%e0%b8%b4%e0%b9%88%e0%b8%87%e0%b8%81%e0%b8%b4%e0%b8%99%e0%b8%9c%e0%b8%b1%e0%b8%81-%e0%b8%a7%e0%b8%b1%e0%b8%87%e0%b8%99%e0%b9%89%e0%b8%b3%e0%b9%80%e0%b8%82%e0%b8%b5%e0%b8%a2%e0%b8%a7/
END:VEVENT
END:VCALENDAR