BEGIN:VCALENDAR
VERSION:2.0
PRODID:-//eventon.com NONSGML v1.0//EN
CALSCALE:GREGORIAN
METHOD:PUBLISH
BEGIN:VEVENT
UID:69e87820d2137
DTSTAMP:20260422T142624
DTSTART:20240219T072200Z
DTEND:20240219T072200Z
TZID:Pacific/Midway
LOCATION:นครราชสีมา 
SUMMARY:KORAT 6 RUN FOR CHILD @1
DESCRIPTION: KORAT 6 RUN FOR CHILD @1\nhttps://patrunning.com/events/korat-6-run-for-child-1/
URL:https://patrunning.com/events/korat-6-run-for-child-1/
END:VEVENT
END:VCALENDAR