BEGIN:VCALENDAR
VERSION:2.0
PRODID:-//eventon.com NONSGML v1.0//EN
CALSCALE:GREGORIAN
METHOD:PUBLISH
BEGIN:VEVENT
UID:69e7559e652c0
DTSTAMP:20260421T174654
DTSTART:20240225T211900Z
DTEND:20240225T211900Z
TZID:Pacific/Midway
LOCATION:ประจวบคีรีขันธ์ 
SUMMARY:BANGSAPHANWITTAYA RUN #1
DESCRIPTION: BANGSAPHANWITTAYA RUN #1\nhttps://patrunning.com/events/bangsaphanwittaya-run-1/
URL:https://patrunning.com/events/bangsaphanwittaya-run-1/
END:VEVENT
END:VCALENDAR