BEGIN:VCALENDAR
VERSION:2.0
PRODID:-//eventon.com NONSGML v1.0//EN
CALSCALE:GREGORIAN
METHOD:PUBLISH
BEGIN:VEVENT
UID:69e87821d4c13
DTSTAMP:20260422T142625
DTSTART:20240715T084800Z
DTEND:20240715T084800Z
TZID:Pacific/Midway
LOCATION:นครราชสีมา 
SUMMARY:Doraemon Run Thailand 2024  by MCOT  (สนามที่ 3)
DESCRIPTION: Doraemon Run Thailand 2024  by MCOT  (สนามที่ 3)\nhttps://patrunning.com/events/doraemon-run-thailand-2024-by-mcot-%e0%b8%aa%e0%b8%99%e0%b8%b2%e0%b8%a1%e0%b8%97%e0%b8%b5%e0%b9%88-3/
URL:https://patrunning.com/events/doraemon-run-thailand-2024-by-mcot-%e0%b8%aa%e0%b8%99%e0%b8%b2%e0%b8%a1%e0%b8%97%e0%b8%b5%e0%b9%88-3/
END:VEVENT
END:VCALENDAR