BEGIN:VCALENDAR
VERSION:2.0
PRODID:-//eventon.com NONSGML v1.0//EN
CALSCALE:GREGORIAN
METHOD:PUBLISH
BEGIN:VEVENT
UID:69e87870e601b
DTSTAMP:20260422T142744
DTSTART:20240325T014000Z
DTEND:20240325T014000Z
TZID:Pacific/Midway
LOCATION:นครราชสีมา 
SUMMARY:MAHARAT KORAT มาหา RUN 2024
DESCRIPTION: MAHARAT KORAT มาหา RUN 2024\nhttps://patrunning.com/events/maharat-korat-%e0%b8%a1%e0%b8%b2%e0%b8%ab%e0%b8%b2-run-2024/
URL:https://patrunning.com/events/maharat-korat-%e0%b8%a1%e0%b8%b2%e0%b8%ab%e0%b8%b2-run-2024/
END:VEVENT
END:VCALENDAR