BEGIN:VCALENDAR
VERSION:2.0
PRODID:-//eventon.com NONSGML v1.0//EN
CALSCALE:GREGORIAN
METHOD:PUBLISH
BEGIN:VEVENT
UID:69e76d6b3d30c
DTSTAMP:20260421T192827
DTSTART:20240527T001000Z
DTEND:20240527T001000Z
TZID:Pacific/Midway
LOCATION:ประจวบคีรีขันธ์ 
SUMMARY:SAM ROI YOT RUN #EP.5 We Run ปันน้อง
DESCRIPTION: SAM ROI YOT RUN #EP.5 We Run ปันน้อง\nhttps://patrunning.com/events/sam-roi-yot-run-ep-5-we-run-%e0%b8%9b%e0%b8%b1%e0%b8%99%e0%b8%99%e0%b9%89%e0%b8%ad%e0%b8%87/
URL:https://patrunning.com/events/sam-roi-yot-run-ep-5-we-run-%e0%b8%9b%e0%b8%b1%e0%b8%99%e0%b8%99%e0%b9%89%e0%b8%ad%e0%b8%87/
END:VEVENT
END:VCALENDAR