BEGIN:VCALENDAR
VERSION:2.0
PRODID:-//eventon.com NONSGML v1.0//EN
CALSCALE:GREGORIAN
METHOD:PUBLISH
BEGIN:VEVENT
UID:69e8781d664fb
DTSTAMP:20260422T142621
DTSTART:20240520T072300Z
DTEND:20240520T072300Z
TZID:Pacific/Midway
LOCATION:นครราชสีมา 
SUMMARY:เดินวิ่ง การกุศล วิสาขะ  ปากช่อง มินิมาราะอน ปีที่ 23
DESCRIPTION: เดินวิ่ง การกุศล วิสาขะ  ปากช่อง มินิมาราะอน ปีที่ 23\nhttps://patrunning.com/events/%e0%b9%80%e0%b8%94%e0%b8%b4%e0%b8%99%e0%b8%a7%e0%b8%b4%e0%b9%88%e0%b8%87-%e0%b8%81%e0%b8%b2%e0%b8%a3%e0%b8%81%e0%b8%b8%e0%b8%a8%e0%b8%a5-%e0%b8%a7%e0%b8%b4%e0%b8%aa%e0%b8%b2%e0%b8%82%e0%b8%b0/
URL:https://patrunning.com/events/%e0%b9%80%e0%b8%94%e0%b8%b4%e0%b8%99%e0%b8%a7%e0%b8%b4%e0%b9%88%e0%b8%87-%e0%b8%81%e0%b8%b2%e0%b8%a3%e0%b8%81%e0%b8%b8%e0%b8%a8%e0%b8%a5-%e0%b8%a7%e0%b8%b4%e0%b8%aa%e0%b8%b2%e0%b8%82%e0%b8%b0/
END:VEVENT
END:VCALENDAR