BEGIN:VCALENDAR
VERSION:2.0
PRODID:-//eventon.com NONSGML v1.0//EN
CALSCALE:GREGORIAN
METHOD:PUBLISH
BEGIN:VEVENT
UID:69ebdae07edf6
DTSTAMP:20260425T040432
DTSTART:20240630T224600Z
DTEND:20240630T224600Z
TZID:Pacific/Midway
LOCATION:นครพนม 
SUMMARY:สะออน Run 2024
DESCRIPTION: สะออน Run 2024\nhttps://patrunning.com/events/%e0%b8%aa%e0%b8%b0%e0%b8%ad%e0%b8%ad%e0%b8%99-run-2024/
URL:https://patrunning.com/events/%e0%b8%aa%e0%b8%b0%e0%b8%ad%e0%b8%ad%e0%b8%99-run-2024/
END:VEVENT
END:VCALENDAR