BEGIN:VCALENDAR
VERSION:2.0
PRODID:-//eventon.com NONSGML v1.0//EN
CALSCALE:GREGORIAN
METHOD:PUBLISH
BEGIN:VEVENT
UID:69ebc6ed11b2f
DTSTAMP:20260425T023925
DTSTART:20250209T230200Z
DTEND:20250209T230200Z
TZID:Pacific/Midway
LOCATION:นครพนม 
SUMMARY:NakhonphanoM 10 2025
DESCRIPTION: NakhonphanoM 10 2025\nhttps://patrunning.com/events/nakhonphanom-10-2025/
URL:https://patrunning.com/events/nakhonphanom-10-2025/
END:VEVENT
END:VCALENDAR