BEGIN:VCALENDAR
VERSION:2.0
PRODID:-//eventon.com NONSGML v1.0//EN
CALSCALE:GREGORIAN
METHOD:PUBLISH
BEGIN:VEVENT
UID:69e7b53f2afae
DTSTAMP:20260422T003455
DTSTART:20240603T080300Z
DTEND:20240603T080300Z
TZID:Pacific/Midway
LOCATION:ระยอง 
SUMMARY:อสม.หนองตะพาน มินิมาราธอน ครั้งที่ 1
DESCRIPTION: อสม.หนองตะพาน มินิมาราธอน ครั้งที่ 1\nhttps://patrunning.com/events/%e0%b8%ad%e0%b8%aa%e0%b8%a1-%e0%b8%ab%e0%b8%99%e0%b8%ad%e0%b8%87%e0%b8%95%e0%b8%b0%e0%b8%9e%e0%b8%b2%e0%b8%99-%e0%b8%a1%e0%b8%b4%e0%b8%99%e0%b8%b4%e0%b8%a1%e0%b8%b2%e0%b8%a3%e0%b8%b2%e0%b8%98%e0%b8%ad/
URL:https://patrunning.com/events/%e0%b8%ad%e0%b8%aa%e0%b8%a1-%e0%b8%ab%e0%b8%99%e0%b8%ad%e0%b8%87%e0%b8%95%e0%b8%b0%e0%b8%9e%e0%b8%b2%e0%b8%99-%e0%b8%a1%e0%b8%b4%e0%b8%99%e0%b8%b4%e0%b8%a1%e0%b8%b2%e0%b8%a3%e0%b8%b2%e0%b8%98%e0%b8%ad/
END:VEVENT
END:VCALENDAR