BEGIN:VCALENDAR
VERSION:2.0
PRODID:-//eventon.com NONSGML v1.0//EN
CALSCALE:GREGORIAN
METHOD:PUBLISH
BEGIN:VEVENT
UID:69e8781d67172
DTSTAMP:20260422T142621
DTSTART:20240519T081200Z
DTEND:20240519T081200Z
TZID:Pacific/Midway
LOCATION:นครราชสีมา 
SUMMARY:KORAT NIGHT RUN 2024
DESCRIPTION: KORAT NIGHT RUN 2024\nhttps://patrunning.com/events/korat-night-run-2024/
URL:https://patrunning.com/events/korat-night-run-2024/
END:VEVENT
END:VCALENDAR