BEGIN:VCALENDAR
VERSION:2.0
PRODID:-//eventon.com NONSGML v1.0//EN
CALSCALE:GREGORIAN
METHOD:PUBLISH
BEGIN:VEVENT
UID:69e7b23399b63
DTSTAMP:20260422T002155
DTSTART:20240617T083800Z
DTEND:20240617T083800Z
TZID:Pacific/Midway
LOCATION:ระยอง 
SUMMARY:Ban Laeng Run & Fruit #2
DESCRIPTION: Ban Laeng Run & Fruit #2\nhttps://patrunning.com/events/ban-laeng-run-fruit-2/
URL:https://patrunning.com/events/ban-laeng-run-fruit-2/
END:VEVENT
END:VCALENDAR