BEGIN:VCALENDAR
VERSION:2.0
PRODID:-//eventon.com NONSGML v1.0//EN
CALSCALE:GREGORIAN
METHOD:PUBLISH
BEGIN:VEVENT
UID:69ed69dcb04ba
DTSTAMP:20260426T082652
DTSTART:20240708T014500Z
DTEND:20240708T014500Z
TZID:Pacific/Midway
LOCATION:แพร่ 
SUMMARY:ครูชวนปั่น #3 ปั่นไปแก่งเสือเต้น
DESCRIPTION: ครูชวนปั่น #3 ปั่นไปแก่งเสือเต้น\nhttps://patrunning.com/events/%e0%b8%84%e0%b8%a3%e0%b8%b9%e0%b8%8a%e0%b8%a7%e0%b8%99%e0%b8%9b%e0%b8%b1%e0%b9%88%e0%b8%99-3-%e0%b8%9b%e0%b8%b1%e0%b9%88%e0%b8%99%e0%b9%84%e0%b8%9b%e0%b9%81%e0%b8%81%e0%b9%88%e0%b8%87%e0%b9%80/
URL:https://patrunning.com/events/%e0%b8%84%e0%b8%a3%e0%b8%b9%e0%b8%8a%e0%b8%a7%e0%b8%99%e0%b8%9b%e0%b8%b1%e0%b9%88%e0%b8%99-3-%e0%b8%9b%e0%b8%b1%e0%b9%88%e0%b8%99%e0%b9%84%e0%b8%9b%e0%b9%81%e0%b8%81%e0%b9%88%e0%b8%87%e0%b9%80/
END:VEVENT
END:VCALENDAR