BEGIN:VCALENDAR
VERSION:2.0
PRODID:-//eventon.com NONSGML v1.0//EN
CALSCALE:GREGORIAN
METHOD:PUBLISH
BEGIN:VEVENT
UID:69e860e59a20f
DTSTAMP:20260422T124717
DTSTART:20240915T220900Z
DTEND:20240915T220900Z
TZID:Pacific/Midway
LOCATION:นครราชสีมา 
SUMMARY:SUT MINI MARATHON ครั้งที่ 4
DESCRIPTION: SUT MINI MARATHON ครั้งที่ 4\nhttps://patrunning.com/events/sut-mini-marathon-%e0%b8%84%e0%b8%a3%e0%b8%b1%e0%b9%89%e0%b8%87%e0%b8%97%e0%b8%b5%e0%b9%88-4/
URL:https://patrunning.com/events/sut-mini-marathon-%e0%b8%84%e0%b8%a3%e0%b8%b1%e0%b9%89%e0%b8%87%e0%b8%97%e0%b8%b5%e0%b9%88-4/
END:VEVENT
END:VCALENDAR