BEGIN:VCALENDAR
VERSION:2.0
PRODID:-//eventon.com NONSGML v1.0//EN
CALSCALE:GREGORIAN
METHOD:PUBLISH
BEGIN:VEVENT
UID:69e860d9855ea
DTSTAMP:20260422T124705
DTSTART:20241123T222600Z
DTEND:20241124T222600Z
TZID:Pacific/Midway
LOCATION:นครราชสีมา 
SUMMARY:Cuesta X Trail 2024
DESCRIPTION: Cuesta X Trail 2024\nhttps://patrunning.com/events/cuesta-x-trail-2024/
URL:https://patrunning.com/events/cuesta-x-trail-2024/
END:VEVENT
END:VCALENDAR