BEGIN:VCALENDAR
VERSION:2.0
PRODID:-//eventon.com NONSGML v1.0//EN
CALSCALE:GREGORIAN
METHOD:PUBLISH
BEGIN:VEVENT
UID:69e7555aa9a12
DTSTAMP:20260421T174546
DTSTART:20240714T222400Z
DTEND:20240714T222400Z
TZID:Pacific/Midway
LOCATION:หนองคาย 
SUMMARY:แล่นเบิ่งโขง ปีที่ 3
DESCRIPTION: แล่นเบิ่งโขง ปีที่ 3\nhttps://patrunning.com/events/%e0%b9%81%e0%b8%a5%e0%b9%88%e0%b8%99%e0%b9%80%e0%b8%9a%e0%b8%b4%e0%b9%88%e0%b8%87%e0%b9%82%e0%b8%82%e0%b8%87-%e0%b8%9b%e0%b8%b5%e0%b8%97%e0%b8%b5%e0%b9%88-3/
URL:https://patrunning.com/events/%e0%b9%81%e0%b8%a5%e0%b9%88%e0%b8%99%e0%b9%80%e0%b8%9a%e0%b8%b4%e0%b9%88%e0%b8%87%e0%b9%82%e0%b8%82%e0%b8%87-%e0%b8%9b%e0%b8%b5%e0%b8%97%e0%b8%b5%e0%b9%88-3/
END:VEVENT
END:VCALENDAR