BEGIN:VCALENDAR
VERSION:2.0
PRODID:-//eventon.com NONSGML v1.0//EN
CALSCALE:GREGORIAN
METHOD:PUBLISH
BEGIN:VEVENT
UID:69e785083884d
DTSTAMP:20260421T210912
DTSTART:20241215T224300Z
DTEND:20241215T224300Z
TZID:Pacific/Midway
LOCATION:ประจวบคีรีขันธ์ 
SUMMARY:PEA Mini Marathon#13  สนามประจวบคีรีขันธ์
DESCRIPTION: PEA Mini Marathon#13  สนามประจวบคีรีขันธ์\nhttps://patrunning.com/events/pea-mini-marathon13-%e0%b8%aa%e0%b8%99%e0%b8%b2%e0%b8%a1%e0%b8%9b%e0%b8%a3%e0%b8%b0%e0%b8%88%e0%b8%a7%e0%b8%9a%e0%b8%84%e0%b8%b5%e0%b8%a3%e0%b8%b5%e0%b8%82%e0%b8%b1%e0%b8%99%e0%b8%98%e0%b9%8c/
URL:https://patrunning.com/events/pea-mini-marathon13-%e0%b8%aa%e0%b8%99%e0%b8%b2%e0%b8%a1%e0%b8%9b%e0%b8%a3%e0%b8%b0%e0%b8%88%e0%b8%a7%e0%b8%9a%e0%b8%84%e0%b8%b5%e0%b8%a3%e0%b8%b5%e0%b8%82%e0%b8%b1%e0%b8%99%e0%b8%98%e0%b9%8c/
END:VEVENT
END:VCALENDAR