BEGIN:VCALENDAR
VERSION:2.0
PRODID:-//eventon.com NONSGML v1.0//EN
CALSCALE:GREGORIAN
METHOD:PUBLISH
BEGIN:VEVENT
UID:69e860d98558e
DTSTAMP:20260422T124705
DTSTART:20241222T224500Z
DTEND:20241222T224500Z
TZID:Pacific/Midway
LOCATION:นครราชสีมา 
SUMMARY:PEA Mini Marathon#13  สนามนครราชสีมา
DESCRIPTION: PEA Mini Marathon#13  สนามนครราชสีมา\nhttps://patrunning.com/events/pea-mini-marathon13-%e0%b8%aa%e0%b8%99%e0%b8%b2%e0%b8%a1%e0%b8%99%e0%b8%84%e0%b8%a3%e0%b8%a3%e0%b8%b2%e0%b8%8a%e0%b8%aa%e0%b8%b5%e0%b8%a1%e0%b8%b2/
URL:https://patrunning.com/events/pea-mini-marathon13-%e0%b8%aa%e0%b8%99%e0%b8%b2%e0%b8%a1%e0%b8%99%e0%b8%84%e0%b8%a3%e0%b8%a3%e0%b8%b2%e0%b8%8a%e0%b8%aa%e0%b8%b5%e0%b8%a1%e0%b8%b2/
END:VEVENT
END:VCALENDAR