BEGIN:VCALENDAR
VERSION:2.0
PRODID:-//eventon.com NONSGML v1.0//EN
CALSCALE:GREGORIAN
METHOD:PUBLISH
BEGIN:VEVENT
UID:69e860e439b8f
DTSTAMP:20260422T124716
DTSTART:20250112T063900Z
DTEND:20250112T063900Z
TZID:Pacific/Midway
LOCATION:นครราชสีมา 
SUMMARY:บี-ควิก เขาใหญ่มาราธอน 2568
DESCRIPTION: บี-ควิก เขาใหญ่มาราธอน 2568\nhttps://patrunning.com/events/%e0%b8%9a%e0%b8%b5-%e0%b8%84%e0%b8%a7%e0%b8%b4%e0%b8%81-%e0%b9%80%e0%b8%82%e0%b8%b2%e0%b9%83%e0%b8%ab%e0%b8%8d%e0%b9%88%e0%b8%a1%e0%b8%b2%e0%b8%a3%e0%b8%b2%e0%b8%98%e0%b8%ad%e0%b8%99-2568/
URL:https://patrunning.com/events/%e0%b8%9a%e0%b8%b5-%e0%b8%84%e0%b8%a7%e0%b8%b4%e0%b8%81-%e0%b9%80%e0%b8%82%e0%b8%b2%e0%b9%83%e0%b8%ab%e0%b8%8d%e0%b9%88%e0%b8%a1%e0%b8%b2%e0%b8%a3%e0%b8%b2%e0%b8%98%e0%b8%ad%e0%b8%99-2568/
END:VEVENT
END:VCALENDAR