BEGIN:VCALENDAR
VERSION:2.0
PRODID:-//eventon.com NONSGML v1.0//EN
CALSCALE:GREGORIAN
METHOD:PUBLISH
BEGIN:VEVENT
UID:69e7b53de74f7
DTSTAMP:20260422T003453
DTSTART:20241117T214100Z
DTEND:20241117T214100Z
TZID:Pacific/Midway
LOCATION:ระยอง 
SUMMARY:RUN FOR KIDS  วิ่งด้วยใจ ให้ด้วยรัก ครั้งที่ 9
DESCRIPTION: RUN FOR KIDS  วิ่งด้วยใจ ให้ด้วยรัก ครั้งที่ 9\nhttps://patrunning.com/events/run-for-kids-%e0%b8%a7%e0%b8%b4%e0%b9%88%e0%b8%87%e0%b8%94%e0%b9%89%e0%b8%a7%e0%b8%a2%e0%b9%83%e0%b8%88-%e0%b9%83%e0%b8%ab%e0%b9%89%e0%b8%94%e0%b9%89%e0%b8%a7%e0%b8%a2%e0%b8%a3%e0%b8%b1%e0%b8%81-3/
URL:https://patrunning.com/events/run-for-kids-%e0%b8%a7%e0%b8%b4%e0%b9%88%e0%b8%87%e0%b8%94%e0%b9%89%e0%b8%a7%e0%b8%a2%e0%b9%83%e0%b8%88-%e0%b9%83%e0%b8%ab%e0%b9%89%e0%b8%94%e0%b9%89%e0%b8%a7%e0%b8%a2%e0%b8%a3%e0%b8%b1%e0%b8%81-3/
END:VEVENT
END:VCALENDAR