BEGIN:VCALENDAR
VERSION:2.0
PRODID:-//eventon.com NONSGML v1.0//EN
CALSCALE:GREGORIAN
METHOD:PUBLISH
BEGIN:VEVENT
UID:69e860dc12a93
DTSTAMP:20260422T124708
DTSTART:20250208T013200Z
DTEND:20250209T013200Z
TZID:Pacific/Midway
LOCATION:นครราชสีมา 
SUMMARY:Khaoyai 100 M Super Ultra Marathon
DESCRIPTION: Khaoyai 100 M Super Ultra Marathon\nhttps://patrunning.com/events/khaoyai-100-m-super-ultra-marathon/
URL:https://patrunning.com/events/khaoyai-100-m-super-ultra-marathon/
END:VEVENT
END:VCALENDAR