BEGIN:VCALENDAR
VERSION:2.0
PRODID:-//eventon.com NONSGML v1.0//EN
CALSCALE:GREGORIAN
METHOD:PUBLISH
BEGIN:VEVENT
UID:69e7559f6545d
DTSTAMP:20260421T174655
DTSTART:20240923T071100Z
DTEND:20240923T071100Z
TZID:Pacific/Midway
LOCATION:ประจวบคีรีขันธ์ 
SUMMARY:ประมงไทยชวนวิ่ง ครั้งที่ 3
DESCRIPTION: ประมงไทยชวนวิ่ง ครั้งที่ 3\nhttps://patrunning.com/events/%e0%b8%9b%e0%b8%a3%e0%b8%b0%e0%b8%a1%e0%b8%87%e0%b9%84%e0%b8%97%e0%b8%a2%e0%b8%8a%e0%b8%a7%e0%b8%99%e0%b8%a7%e0%b8%b4%e0%b9%88%e0%b8%87-%e0%b8%84%e0%b8%a3%e0%b8%b1%e0%b9%89%e0%b8%87%e0%b8%97%e0%b8%b5/
URL:https://patrunning.com/events/%e0%b8%9b%e0%b8%a3%e0%b8%b0%e0%b8%a1%e0%b8%87%e0%b9%84%e0%b8%97%e0%b8%a2%e0%b8%8a%e0%b8%a7%e0%b8%99%e0%b8%a7%e0%b8%b4%e0%b9%88%e0%b8%87-%e0%b8%84%e0%b8%a3%e0%b8%b1%e0%b9%89%e0%b8%87%e0%b8%97%e0%b8%b5/
END:VEVENT
END:VCALENDAR