BEGIN:VCALENDAR
VERSION:2.0
PRODID:-//eventon.com NONSGML v1.0//EN
CALSCALE:GREGORIAN
METHOD:PUBLISH
BEGIN:VEVENT
UID:69e860dad4556
DTSTAMP:20260422T124706
DTSTART:20241208T071600Z
DTEND:20241209T071600Z
TZID:Pacific/Midway
LOCATION:นครราชสีมา 
SUMMARY:โคราช ลอยฟ้ามาราธอน 2567 ครั้งที่ 13
DESCRIPTION: โคราช ลอยฟ้ามาราธอน 2567 ครั้งที่ 13\nhttps://patrunning.com/events/%e0%b9%82%e0%b8%84%e0%b8%a3%e0%b8%b2%e0%b8%8a-%e0%b8%a5%e0%b8%ad%e0%b8%a2%e0%b8%9f%e0%b9%89%e0%b8%b2%e0%b8%a1%e0%b8%b2%e0%b8%a3%e0%b8%b2%e0%b8%98%e0%b8%ad%e0%b8%99-2567-%e0%b8%84%e0%b8%a3%e0%b8%b1/
URL:https://patrunning.com/events/%e0%b9%82%e0%b8%84%e0%b8%a3%e0%b8%b2%e0%b8%8a-%e0%b8%a5%e0%b8%ad%e0%b8%a2%e0%b8%9f%e0%b9%89%e0%b8%b2%e0%b8%a1%e0%b8%b2%e0%b8%a3%e0%b8%b2%e0%b8%98%e0%b8%ad%e0%b8%99-2567-%e0%b8%84%e0%b8%a3%e0%b8%b1/
END:VEVENT
END:VCALENDAR