BEGIN:VCALENDAR
VERSION:2.0
PRODID:-//eventon.com NONSGML v1.0//EN
CALSCALE:GREGORIAN
METHOD:PUBLISH
BEGIN:VEVENT
UID:69e860e43c6f9
DTSTAMP:20260422T124716
DTSTART:20241215T071800Z
DTEND:20241215T071800Z
TZID:Pacific/Midway
LOCATION:นครราชสีมา 
SUMMARY:4th Khaoyai 100K Ultra Marathon 2024
DESCRIPTION: 4th Khaoyai 100K Ultra Marathon 2024\nhttps://patrunning.com/events/4th-khaoyai-100k-ultra-marathon-2024/
URL:https://patrunning.com/events/4th-khaoyai-100k-ultra-marathon-2024/
END:VEVENT
END:VCALENDAR