BEGIN:VCALENDAR
VERSION:2.0
PRODID:-//eventon.com NONSGML v1.0//EN
CALSCALE:GREGORIAN
METHOD:PUBLISH
BEGIN:VEVENT
UID:69e76d7fc0351
DTSTAMP:20260421T192847
DTSTART:20241216T072000Z
DTEND:20241216T072000Z
TZID:Pacific/Midway
LOCATION:ประจวบคีรีขันธ์ 
SUMMARY:The Legendary Trail Series 2024 : HUAHIN50
DESCRIPTION: The Legendary Trail Series 2024 : HUAHIN50\nhttps://patrunning.com/events/the-legendary-trail-series-2024-huahin50/
URL:https://patrunning.com/events/the-legendary-trail-series-2024-huahin50/
END:VEVENT
END:VCALENDAR