BEGIN:VCALENDAR
VERSION:2.0
PRODID:-//eventon.com NONSGML v1.0//EN
CALSCALE:GREGORIAN
METHOD:PUBLISH
BEGIN:VEVENT
UID:69e7b23299107
DTSTAMP:20260422T002154
DTSTART:20241209T073400Z
DTEND:20241209T073400Z
TZID:Pacific/Midway
LOCATION:ระยอง 
SUMMARY:Pluakdaeng Super Half Marathon #2
DESCRIPTION: Pluakdaeng Super Half Marathon #2\nhttps://patrunning.com/events/pluakdaeng-super-half-marathon-2/
URL:https://patrunning.com/events/pluakdaeng-super-half-marathon-2/
END:VEVENT
END:VCALENDAR