BEGIN:VCALENDAR
VERSION:2.0
PRODID:-//eventon.com NONSGML v1.0//EN
CALSCALE:GREGORIAN
METHOD:PUBLISH
BEGIN:VEVENT
UID:69e84505497d3
DTSTAMP:20260422T104821
DTSTART:20241006T012800Z
DTEND:20241006T012800Z
TZID:Pacific/Midway
LOCATION:นครราชสีมา 
SUMMARY:เดิน วิ่ง ปั่น ปันรักเพื่อน้อง  “หลวงพ่อคูณมินิมาราธอนครั้งที่ 15”
DESCRIPTION: เดิน วิ่ง ปั่น ปันรักเพื่อน้อง  “หลวงพ่อคูณมินิมาราธอนครั้งที่ 15”\nhttps://patrunning.com/events/%e0%b9%80%e0%b8%94%e0%b8%b4%e0%b8%99-%e0%b8%a7%e0%b8%b4%e0%b9%88%e0%b8%87-%e0%b8%9b%e0%b8%b1%e0%b9%88%e0%b8%99-%e0%b8%9b%e0%b8%b1%e0%b8%99%e0%b8%a3%e0%b8%b1%e0%b8%81%e0%b9%80%e0%b8%9e%e0%b8%b7/
URL:https://patrunning.com/events/%e0%b9%80%e0%b8%94%e0%b8%b4%e0%b8%99-%e0%b8%a7%e0%b8%b4%e0%b9%88%e0%b8%87-%e0%b8%9b%e0%b8%b1%e0%b9%88%e0%b8%99-%e0%b8%9b%e0%b8%b1%e0%b8%99%e0%b8%a3%e0%b8%b1%e0%b8%81%e0%b9%80%e0%b8%9e%e0%b8%b7/
END:VEVENT
END:VCALENDAR