BEGIN:VCALENDAR
VERSION:2.0
PRODID:-//eventon.com NONSGML v1.0//EN
CALSCALE:GREGORIAN
METHOD:PUBLISH
BEGIN:VEVENT
UID:69ebc74cc8bdf
DTSTAMP:20260425T024100
DTSTART:20241209T013700Z
DTEND:20241209T013700Z
TZID:Pacific/Midway
LOCATION:นครพนม 
SUMMARY:ธาตุพนม ฮาล์ฟมาราธอน 2024
DESCRIPTION: ธาตุพนม ฮาล์ฟมาราธอน 2024\nhttps://patrunning.com/events/%e0%b8%98%e0%b8%b2%e0%b8%95%e0%b8%b8%e0%b8%9e%e0%b8%99%e0%b8%a1-%e0%b8%ae%e0%b8%b2%e0%b8%a5%e0%b9%8c%e0%b8%9f%e0%b8%a1%e0%b8%b2%e0%b8%a3%e0%b8%b2%e0%b8%98%e0%b8%ad%e0%b8%99-2024/
URL:https://patrunning.com/events/%e0%b8%98%e0%b8%b2%e0%b8%95%e0%b8%b8%e0%b8%9e%e0%b8%99%e0%b8%a1-%e0%b8%ae%e0%b8%b2%e0%b8%a5%e0%b9%8c%e0%b8%9f%e0%b8%a1%e0%b8%b2%e0%b8%a3%e0%b8%b2%e0%b8%98%e0%b8%ad%e0%b8%99-2024/
END:VEVENT
END:VCALENDAR