BEGIN:VCALENDAR
VERSION:2.0
PRODID:-//eventon.com NONSGML v1.0//EN
CALSCALE:GREGORIAN
METHOD:PUBLISH
BEGIN:VEVENT
UID:69e7b53e5febb
DTSTAMP:20260422T003454
DTSTART:20240901T205200Z
DTEND:20240901T205200Z
TZID:Pacific/Midway
LOCATION:ระยอง 
SUMMARY:รัตนรังสรรค์เทรล รันนิ่ง “วิ่งต้านยา ผ่าค่าย” ครั้งที่ 2
DESCRIPTION: รัตนรังสรรค์เทรล รันนิ่ง “วิ่งต้านยา ผ่าค่าย” ครั้งที่ 2\nhttps://patrunning.com/events/%e0%b8%a3%e0%b8%b1%e0%b8%95%e0%b8%99%e0%b8%a3%e0%b8%b1%e0%b8%87%e0%b8%aa%e0%b8%a3%e0%b8%a3%e0%b8%84%e0%b9%8c%e0%b9%80%e0%b8%97%e0%b8%a3%e0%b8%a5-%e0%b8%a3%e0%b8%b1%e0%b8%99%e0%b8%99%e0%b8%b4%e0%b9%88/
URL:https://patrunning.com/events/%e0%b8%a3%e0%b8%b1%e0%b8%95%e0%b8%99%e0%b8%a3%e0%b8%b1%e0%b8%87%e0%b8%aa%e0%b8%a3%e0%b8%a3%e0%b8%84%e0%b9%8c%e0%b9%80%e0%b8%97%e0%b8%a3%e0%b8%a5-%e0%b8%a3%e0%b8%b1%e0%b8%99%e0%b8%99%e0%b8%b4%e0%b9%88/
END:VEVENT
END:VCALENDAR