BEGIN:VCALENDAR
VERSION:2.0
PRODID:-//eventon.com NONSGML v1.0//EN
CALSCALE:GREGORIAN
METHOD:PUBLISH
BEGIN:VEVENT
UID:69e7b232995dd
DTSTAMP:20260422T002154
DTSTART:20250113T000900Z
DTEND:20250113T000900Z
TZID:Pacific/Midway
LOCATION:ระยอง 
SUMMARY:Khao Jook cross country run 2025
DESCRIPTION: Khao Jook cross country run 2025\nhttps://patrunning.com/events/khao-jook-cross-country-run-2025/
URL:https://patrunning.com/events/khao-jook-cross-country-run-2025/
END:VEVENT
END:VCALENDAR