BEGIN:VCALENDAR
VERSION:2.0
PRODID:-//eventon.com NONSGML v1.0//EN
CALSCALE:GREGORIAN
METHOD:PUBLISH
BEGIN:VEVENT
UID:69e79ac31361d
DTSTAMP:20260421T224155
DTSTART:20241208T222100Z
DTEND:20241208T222100Z
TZID:Pacific/Midway
LOCATION:ระยอง 
SUMMARY:ฮวยซัมเปียน วิ่งชมหมอก
DESCRIPTION: ฮวยซัมเปียน วิ่งชมหมอก\nhttps://patrunning.com/events/%e0%b8%ae%e0%b8%a7%e0%b8%a2%e0%b8%8b%e0%b8%b1%e0%b8%a1%e0%b9%80%e0%b8%9b%e0%b8%b5%e0%b8%a2%e0%b8%99-%e0%b8%a7%e0%b8%b4%e0%b9%88%e0%b8%87%e0%b8%8a%e0%b8%a1%e0%b8%ab%e0%b8%a1%e0%b8%ad%e0%b8%81-2/
URL:https://patrunning.com/events/%e0%b8%ae%e0%b8%a7%e0%b8%a2%e0%b8%8b%e0%b8%b1%e0%b8%a1%e0%b9%80%e0%b8%9b%e0%b8%b5%e0%b8%a2%e0%b8%99-%e0%b8%a7%e0%b8%b4%e0%b9%88%e0%b8%87%e0%b8%8a%e0%b8%a1%e0%b8%ab%e0%b8%a1%e0%b8%ad%e0%b8%81-2/
END:VEVENT
END:VCALENDAR