BEGIN:VCALENDAR
VERSION:2.0
PRODID:-//eventon.com NONSGML v1.0//EN
CALSCALE:GREGORIAN
METHOD:PUBLISH
BEGIN:VEVENT
UID:69e79ac1e8192
DTSTAMP:20260421T224153
DTSTART:20241110T222300Z
DTEND:20241110T222300Z
TZID:Pacific/Midway
LOCATION:ระยอง 
SUMMARY:เทศบาลเนินพระ – เอจีซี วีนิไทย มินิมาราธอน ครั้งที่ 14
DESCRIPTION: เทศบาลเนินพระ – เอจีซี วีนิไทย มินิมาราธอน ครั้งที่ 14\nhttps://patrunning.com/events/%e0%b9%80%e0%b8%97%e0%b8%a8%e0%b8%9a%e0%b8%b2%e0%b8%a5%e0%b9%80%e0%b8%99%e0%b8%b4%e0%b8%99%e0%b8%9e%e0%b8%a3%e0%b8%b0-%e0%b9%80%e0%b8%ad%e0%b8%88%e0%b8%b5%e0%b8%8b%e0%b8%b5-%e0%b8%a7%e0%b8%b5-3/
URL:https://patrunning.com/events/%e0%b9%80%e0%b8%97%e0%b8%a8%e0%b8%9a%e0%b8%b2%e0%b8%a5%e0%b9%80%e0%b8%99%e0%b8%b4%e0%b8%99%e0%b8%9e%e0%b8%a3%e0%b8%b0-%e0%b9%80%e0%b8%ad%e0%b8%88%e0%b8%b5%e0%b8%8b%e0%b8%b5-%e0%b8%a7%e0%b8%b5-3/
END:VEVENT
END:VCALENDAR