BEGIN:VCALENDAR
VERSION:2.0
PRODID:-//eventon.com NONSGML v1.0//EN
CALSCALE:GREGORIAN
METHOD:PUBLISH
BEGIN:VEVENT
UID:69e845070f71f
DTSTAMP:20260422T104823
DTSTART:20240916T062800Z
DTEND:20240916T062800Z
TZID:Pacific/Midway
LOCATION:นครราชสีมา 
SUMMARY:Trail Run @ Sakaerat วิ่งสัมผัสมรดกโลกชีวมณฑลสะแกราช
DESCRIPTION: Trail Run @ Sakaerat วิ่งสัมผัสมรดกโลกชีวมณฑลสะแกราช\nhttps://patrunning.com/events/trail-run-sakaerat-%e0%b8%a7%e0%b8%b4%e0%b9%88%e0%b8%87%e0%b8%aa%e0%b8%b1%e0%b8%a1%e0%b8%9c%e0%b8%b1%e0%b8%aa%e0%b8%a1%e0%b8%a3%e0%b8%94%e0%b8%81%e0%b9%82%e0%b8%a5%e0%b8%81%e0%b8%8a%e0%b8%b5/
URL:https://patrunning.com/events/trail-run-sakaerat-%e0%b8%a7%e0%b8%b4%e0%b9%88%e0%b8%87%e0%b8%aa%e0%b8%b1%e0%b8%a1%e0%b8%9c%e0%b8%b1%e0%b8%aa%e0%b8%a1%e0%b8%a3%e0%b8%94%e0%b8%81%e0%b9%82%e0%b8%a5%e0%b8%81%e0%b8%8a%e0%b8%b5/
END:VEVENT
END:VCALENDAR