BEGIN:VCALENDAR
VERSION:2.0
PRODID:-//eventon.com NONSGML v1.0//EN
CALSCALE:GREGORIAN
METHOD:PUBLISH
BEGIN:VEVENT
UID:69e79ae42dfb7
DTSTAMP:20260421T224228
DTSTART:20241201T074200Z
DTEND:20241201T074200Z
TZID:Pacific/Midway
LOCATION:ระยอง 
SUMMARY:วังจันทร์วัลเลย์ ทไวไลท์ รัน 2024
DESCRIPTION: วังจันทร์วัลเลย์ ทไวไลท์ รัน 2024\nhttps://patrunning.com/events/%e0%b8%a7%e0%b8%b1%e0%b8%87%e0%b8%88%e0%b8%b1%e0%b8%99%e0%b8%97%e0%b8%a3%e0%b9%8c%e0%b8%a7%e0%b8%b1%e0%b8%a5%e0%b9%80%e0%b8%a5%e0%b8%a2%e0%b9%8c-%e0%b8%97%e0%b9%84%e0%b8%a7%e0%b9%84%e0%b8%a5%e0%b8%97/
URL:https://patrunning.com/events/%e0%b8%a7%e0%b8%b1%e0%b8%87%e0%b8%88%e0%b8%b1%e0%b8%99%e0%b8%97%e0%b8%a3%e0%b9%8c%e0%b8%a7%e0%b8%b1%e0%b8%a5%e0%b9%80%e0%b8%a5%e0%b8%a2%e0%b9%8c-%e0%b8%97%e0%b9%84%e0%b8%a7%e0%b9%84%e0%b8%a5%e0%b8%97/
END:VEVENT
END:VCALENDAR